BEGIN:VCALENDAR
VERSION:2.0
PRODID:-//JPD Foundation - ECPv6.15.20//NONSGML v1.0//EN
CALSCALE:GREGORIAN
METHOD:PUBLISH
X-WR-CALNAME:JPD Foundation
X-ORIGINAL-URL:http://jpdfoundation.org
X-WR-CALDESC:Events for JPD Foundation
REFRESH-INTERVAL;VALUE=DURATION:PT1H
X-Robots-Tag:noindex
X-PUBLISHED-TTL:PT1H
BEGIN:VTIMEZONE
TZID:America/New_York
BEGIN:DAYLIGHT
TZOFFSETFROM:-0500
TZOFFSETTO:-0400
TZNAME:EDT
DTSTART:20220313T070000
END:DAYLIGHT
BEGIN:STANDARD
TZOFFSETFROM:-0400
TZOFFSETTO:-0500
TZNAME:EST
DTSTART:20221106T060000
END:STANDARD
BEGIN:DAYLIGHT
TZOFFSETFROM:-0500
TZOFFSETTO:-0400
TZNAME:EDT
DTSTART:20230312T070000
END:DAYLIGHT
BEGIN:STANDARD
TZOFFSETFROM:-0400
TZOFFSETTO:-0500
TZNAME:EST
DTSTART:20231105T060000
END:STANDARD
BEGIN:DAYLIGHT
TZOFFSETFROM:-0500
TZOFFSETTO:-0400
TZNAME:EDT
DTSTART:20240310T070000
END:DAYLIGHT
BEGIN:STANDARD
TZOFFSETFROM:-0400
TZOFFSETTO:-0500
TZNAME:EST
DTSTART:20241103T060000
END:STANDARD
BEGIN:DAYLIGHT
TZOFFSETFROM:-0500
TZOFFSETTO:-0400
TZNAME:EDT
DTSTART:20250309T070000
END:DAYLIGHT
BEGIN:STANDARD
TZOFFSETFROM:-0400
TZOFFSETTO:-0500
TZNAME:EST
DTSTART:20251102T060000
END:STANDARD
END:VTIMEZONE
BEGIN:VEVENT
DTSTART;TZID=America/New_York:20230427T110000
DTEND;TZID=America/New_York:20230427T120000
DTSTAMP:20260425T063405
CREATED:20230418T002745Z
LAST-MODIFIED:20230418T002745Z
UID:13925-1682593200-1682596800@jpdfoundation.org
SUMMARY:Phonemic Awareness: Workshops for Caregivers by LINC NYC
DESCRIPTION:Attention parents: add these events to your calendar! In this series\, caregivers will learn about phonemic awareness and how to make it a enjoyable daily practice to support their child’s readiness to read. Register here: http://rb.gy/zyuzib \n  \nAtención padres: ¡agreguen estos eventos a su calendario! En esta serie\, los cuidadores aprenderán sobre la conciencia fonémica y cómo convertirla en una práctica diaria agradable para apoyar la preparación de sus hijos para leer. http://rb.gy/zyuzib
URL:http://jpdfoundation.org/event/phonemic-awareness-workshops-for-caregivers-by-linc-nyc-4/
LOCATION:Zoom
CATEGORIES:Education,Events
ATTACH;FMTTYPE=image/jpeg:http://jpdfoundation.org/wp-content/uploads/2023/04/341697296_636218244996125_2061791149659691341_n.jpg
END:VEVENT
BEGIN:VEVENT
DTSTART;TZID=America/New_York:20230602T180000
DTEND;TZID=America/New_York:20230602T210000
DTSTAMP:20260425T063405
CREATED:20230517T003259Z
LAST-MODIFIED:20230517T003259Z
UID:14053-1685728800-1685739600@jpdfoundation.org
SUMMARY:Joan Vidal Art Exhibition
DESCRIPTION:The art of Joan Vidal will be at the JPD Community Space starting on June 2nd (Friday). We will be waiting for you from 6-9pm for the opening reception on that day. And the sommelier Rafael Vargas will be responsible for the wine list!\n\n\n\nEl arte de Joan Vidal estará en el Espacio Comunitario JPD a partir del 2 de junio (viernes). Los estaremos esperando de 6:00 p. m. a 9:00 p. m. para la recepción de apertura ese día. ¡Y el sumiller Rafael Vargas será el encargado de la carta de vinos!
URL:http://jpdfoundation.org/event/joan-vidal-art-exhibition/
LOCATION:JPD Community Space\, GWB Marketplace (4211 Broadway\, Suite 23A - on the corner of 179th St. & Ft. Washington)\, New York\, NY\, 10033\, United States
CATEGORIES:Art
ATTACH;FMTTYPE=image/jpeg:http://jpdfoundation.org/wp-content/uploads/2023/05/61aa57aa-a5da-4d00-9ff8-1d25f5c95eb3.jpg
END:VEVENT
BEGIN:VEVENT
DTSTART;VALUE=DATE:20230603
DTEND;VALUE=DATE:20230604
DTSTAMP:20260425T063405
CREATED:20230508T000250Z
LAST-MODIFIED:20230508T000329Z
UID:14017-1685750400-1685836799@jpdfoundation.org
SUMMARY:24th Festival Del Boulevard
DESCRIPTION:
URL:http://jpdfoundation.org/event/24th-festival-del-boulevard/
LOCATION:Avenida St. Nicholas\, Manhattan\, NY\, United States
CATEGORIES:Events,Family Fun
ATTACH;FMTTYPE=image/jpeg:http://jpdfoundation.org/wp-content/uploads/2023/05/image0-1-1.jpeg
END:VEVENT
BEGIN:VEVENT
DTSTART;TZID=America/New_York:20230710T100000
DTEND;TZID=America/New_York:20230714T150000
DTSTAMP:20260425T063405
CREATED:20230617T014821Z
LAST-MODIFIED:20230617T014821Z
UID:14155-1688983200-1689346800@jpdfoundation.org
SUMMARY:FREE Summer Empowerment Program
DESCRIPTION:There’s only 25 spots available for this FREE SUMMER EMPOWERMENT PROGRAM dedicated to girls 8 to 12 years old! Come join One World Girl Summer Program for 5 days of enrichment activities in July at the JPD Community Space. The program starts on Monday\, the 10th\, and it ends on Friday\, the 14th. From 10am to 3pm daily.\n\n\n> Make sure to register by sending an email to laura@jpdfoundation.org\n\n\n\n\n\n—\n\n\n\n¡Solo hay 25 lugares disponibles para este PROGRAMA GRATUITO DE EMPODERAMIENTO DE VERANO dedicado a niñas de 8 a 12 años! Ven y únete al programa de verano One World Girl durante 5 días de actividades de enriquecimiento en julio. El programa comienza el lunes 10 y finaliza el viernes 14. De 10 am a 3 pm todos los días.\n\n\n> Asegúrese de registrarse enviando un correo electrónico a laura@jpdfoundation.org
URL:http://jpdfoundation.org/event/free-summer-empowerment-program/
LOCATION:NY
ATTACH;FMTTYPE=image/jpeg:http://jpdfoundation.org/wp-content/uploads/2023/06/30513d4f-0734-43c1-90af-e79dbe793b85.jpg
ORGANIZER;CN="JPD Foundation":MAILTO:info@jpdfoundation.org
END:VEVENT
BEGIN:VEVENT
DTSTART;TZID=America/New_York:20240513T080000
DTEND;TZID=America/New_York:20240513T170000
DTSTAMP:20260425T063405
CREATED:20240514T000608Z
LAST-MODIFIED:20240514T000608Z
UID:16205-1715587200-1715619600@jpdfoundation.org
SUMMARY:Festival Del Boulevard: 25 años!
DESCRIPTION:¡PREPARARSE! ¡Nuestro tradicional Festival Del Boulevard se llevará a cabo el 1 de junio! ¡Traiga a su familia para disfrutar de emocionantes representaciones artísticas\, deliciosa comida y una importante celebración de nuestra cultura! Presentación especial de Rubby Peréz.\n\nPara ser parte de la fiesta\, contáctenos al (917) 270-4987.\nhttp://jpdfoundation.org/wp-content/uploads/2024/05/435954201_1115690906352333_3932653812443645740_n.mp4\n\n\nOur traditional Festival Del Boulevard is happening on June 1st! Bring your family to enjoy exciting performances\, delicious food and a major celebration of our culture! Special presentation by Rubby Peréz\, Los Toros Band\, Aris Jackson\, R. Nova y más. \nTo be part of the party\, please contact us at (917) 270-4987.
URL:http://jpdfoundation.org/event/festival-del-boulevard-25-anos/
LOCATION:NY
CATEGORIES:Events,Family Fun
ATTACH;FMTTYPE=image/jpeg:http://jpdfoundation.org/wp-content/uploads/2024/04/PHOTO-2024-04-14-21-06-43-1.jpg
END:VEVENT
END:VCALENDAR