BEGIN:VCALENDAR
VERSION:2.0
PRODID:-//JPD Foundation - ECPv6.15.20//NONSGML v1.0//EN
CALSCALE:GREGORIAN
METHOD:PUBLISH
X-ORIGINAL-URL:http://jpdfoundation.org
X-WR-CALDESC:Events for JPD Foundation
REFRESH-INTERVAL;VALUE=DURATION:PT1H
X-Robots-Tag:noindex
X-PUBLISHED-TTL:PT1H
BEGIN:VTIMEZONE
TZID:America/New_York
BEGIN:DAYLIGHT
TZOFFSETFROM:-0500
TZOFFSETTO:-0400
TZNAME:EDT
DTSTART:20210314T070000
END:DAYLIGHT
BEGIN:STANDARD
TZOFFSETFROM:-0400
TZOFFSETTO:-0500
TZNAME:EST
DTSTART:20211107T060000
END:STANDARD
BEGIN:DAYLIGHT
TZOFFSETFROM:-0500
TZOFFSETTO:-0400
TZNAME:EDT
DTSTART:20220313T070000
END:DAYLIGHT
BEGIN:STANDARD
TZOFFSETFROM:-0400
TZOFFSETTO:-0500
TZNAME:EST
DTSTART:20221106T060000
END:STANDARD
BEGIN:DAYLIGHT
TZOFFSETFROM:-0500
TZOFFSETTO:-0400
TZNAME:EDT
DTSTART:20230312T070000
END:DAYLIGHT
BEGIN:STANDARD
TZOFFSETFROM:-0400
TZOFFSETTO:-0500
TZNAME:EST
DTSTART:20231105T060000
END:STANDARD
BEGIN:DAYLIGHT
TZOFFSETFROM:-0500
TZOFFSETTO:-0400
TZNAME:EDT
DTSTART:20240310T070000
END:DAYLIGHT
BEGIN:STANDARD
TZOFFSETFROM:-0400
TZOFFSETTO:-0500
TZNAME:EST
DTSTART:20241103T060000
END:STANDARD
BEGIN:DAYLIGHT
TZOFFSETFROM:-0500
TZOFFSETTO:-0400
TZNAME:EDT
DTSTART:20250309T070000
END:DAYLIGHT
BEGIN:STANDARD
TZOFFSETFROM:-0400
TZOFFSETTO:-0500
TZNAME:EST
DTSTART:20251102T060000
END:STANDARD
END:VTIMEZONE
BEGIN:VEVENT
DTSTART;TZID=America/New_York:20221217T130000
DTEND;TZID=America/New_York:20221217T180000
DTSTAMP:20260425T063250
CREATED:20221206T165103Z
LAST-MODIFIED:20221206T165103Z
UID:12870-1671282000-1671300000@jpdfoundation.org
SUMMARY:Holliday Celebration and Pop Up Fair
DESCRIPTION:It’s the most wonderful time of the year… Come celebrate with us and support local vendors! Saturday\, December 17th\, from 1-6pm\, at the JPD Community Space. \nEs la época más maravillosa del año… ¡Ven a celebrar con nosotros y apoya a los vendedores locales! Sábado\, 17 de diciembre\, de 1 a 6 pm\, en el Espacio Comunitario JPD. \n 
URL:http://jpdfoundation.org/event/holliday-celebration-and-pop-up-fair/
LOCATION:JPD Community Space\, GWB Marketplace (4211 Broadway\, Suite 23A - on the corner of 179th St. & Ft. Washington)\, New York\, NY\, 10033\, United States
CATEGORIES:Art,Events,Family Fun,Fashion
ATTACH;FMTTYPE=image/jpeg:http://jpdfoundation.org/wp-content/uploads/2022/12/878bad57-4bfd-4fd7-87d4-fad2ace45124.jpg
END:VEVENT
BEGIN:VEVENT
DTSTART;TZID=America/New_York:20230128T194500
DTEND;TZID=America/New_York:20230128T204500
DTSTAMP:20260425T063250
CREATED:20230113T222436Z
LAST-MODIFIED:20230113T222436Z
UID:13292-1674935100-1674938700@jpdfoundation.org
SUMMARY:Mellow Music and Moves
DESCRIPTION:An invitation to move your body and relax your mind! The class will happen at the JPD Community Space on January 28th (last Saturday of the month) at 7:45pm.\n\n\n\n\n#CommunityBuilding #Yoga #WashingtonHeights #inwood #uptownmanhattan
URL:http://jpdfoundation.org/event/mellow-music-and-moves/
LOCATION:Juan Pablo Duarte Foundation\, P.O. Box 779\, New York\, NY\, 10040\, United States
CATEGORIES:Events
ATTACH;FMTTYPE=image/png:http://jpdfoundation.org/wp-content/uploads/2023/01/Design-sem-nome-2.png
END:VEVENT
BEGIN:VEVENT
DTSTART;TZID=America/New_York:20230218T160000
DTEND;TZID=America/New_York:20230218T210000
DTSTAMP:20260425T063250
CREATED:20230218T003731Z
LAST-MODIFIED:20230218T003731Z
UID:13564-1676736000-1676754000@jpdfoundation.org
SUMMARY:“Retrato de Carnaval: Color\, Vida & Sueño”
DESCRIPTION:¡La celebración más vibrante de la cultura e identidad dominicana! Te esperamos este sábado 18 de febrero a partir de las 4pm en el Espacio Comunitario JPD para la exposición fotográfica “Retrato de Carnaval: Color\, Vida & Sueño” de Raymond Tavarez Marrero.\n\n\n\nThe most vibrant celebration of Dominican culture and identity! We are waiting for you this Saturday\, February 18th\, starting at 4pm\, for the photographic exhibition “Retrato de Carnaval: Color\, Vida & Sueño” by Raymond Tavarez Marrero at the JPD Community Space.
URL:http://jpdfoundation.org/event/retrato-de-carnaval-color-vida-sueno/
LOCATION:JPD Community Space\, GWB Marketplace (4211 Broadway\, Suite 23A - on the corner of 179th St. & Ft. Washington)\, New York\, NY\, 10033\, United States
CATEGORIES:Art,Events,Exhibit
ATTACH;FMTTYPE=image/jpeg:http://jpdfoundation.org/wp-content/uploads/2023/02/1-2.jpg
END:VEVENT
BEGIN:VEVENT
DTSTART;TZID=America/New_York:20230311T130000
DTEND;TZID=America/New_York:20230311T143000
DTSTAMP:20260425T063250
CREATED:20230310T133432Z
LAST-MODIFIED:20230310T133432Z
UID:13674-1678539600-1678545000@jpdfoundation.org
SUMMARY:DancExercise
DESCRIPTION:FAMILY FUN! Come join us this Saturday\, March 11th\, 1pm\, for a fun workshop promoted by The Asociacion de Mujeres Progresistas (AMP). The activities will include some merengue\, bachata and salsa! The JPD Community Space is located inside GWB Bus Terminal. Everyone is welcome!\n\n\n\n¡DIVERSIÓN FAMILIAR! Ven y únete a nosotros este sábado 11 de marzo a la 1 p.m. para un divertido taller promovido por la Asociación de Mujeres Progresistas. ¡Las actividades incluirán algo de merengue\, bachata y salsa! El espacio comunitario JPD está ubicado dentro de la terminal de autobuses GWB. ¡Todos son bienvenidos!
URL:http://jpdfoundation.org/event/dancexercise/
LOCATION:JPD Community Space\, GWB Marketplace (4211 Broadway\, Suite 23A - on the corner of 179th St. & Ft. Washington)\, New York\, NY\, 10033\, United States
CATEGORIES:Events,Family Fun
ATTACH;FMTTYPE=image/png:http://jpdfoundation.org/wp-content/uploads/2023/03/Design-sem-nome-4.png
END:VEVENT
BEGIN:VEVENT
DTSTART;TZID=America/New_York:20230314T080000
DTEND;TZID=America/New_York:20230314T170000
DTSTAMP:20260425T063250
CREATED:20230314T185247Z
LAST-MODIFIED:20230314T185303Z
UID:13712-1678780800-1678813200@jpdfoundation.org
SUMMARY:Get trained to help women get Medicare\, Medicaid and more
DESCRIPTION:It’s International Women’s Month and the Asociacion de Mujeres Progresistas (AMP) will be giving a training to help people get benefits such as Medicare and Medicaid this Sunday\, March 19th\, 2:30pm\, at JPD Community Space. To save your spot\, please call 917-219-6010.\n\n\n\nEs el Mes Internacional de la Mujer y La Asociación de Mujeres Progresistas (AMP NY) estará dando una capacitación para ayudar a las personas a obtener beneficios como Medicare y Medicaid el domingo\, 19 de marzo\, a las 2:30pm\, en el JPD Community Space. Para reservar su lugar\, llame al 917-219-6010.\n\n\n\n#WomensMonth #communitybuilding #Medicaid #medicare #washingtonheights #inwood #uptownmanhattan
URL:http://jpdfoundation.org/event/get-trained-to-help-women-get-medicare-and-medicaid/
LOCATION:NY
CATEGORIES:Education,Events
ATTACH;FMTTYPE=image/jpeg:http://jpdfoundation.org/wp-content/uploads/2023/03/PHOTO-2023-03-12-12-35-37-1.jpg
END:VEVENT
BEGIN:VEVENT
DTSTART;TZID=America/New_York:20230316T180000
DTEND;TZID=America/New_York:20230316T193000
DTSTAMP:20260425T063250
CREATED:20230310T133847Z
LAST-MODIFIED:20230310T133847Z
UID:13677-1678989600-1678995000@jpdfoundation.org
SUMMARY:It's YOUR park!
DESCRIPTION:
URL:http://jpdfoundation.org/event/its-your-park/
LOCATION:J Hood Wright Recreation Center\, 351 Fort Washington Ave\, New York\, NY\, 10033\, United States
CATEGORIES:Events,Family Fun
ATTACH;FMTTYPE=image/jpeg:http://jpdfoundation.org/wp-content/uploads/2023/03/IMG_9954.jpg
END:VEVENT
BEGIN:VEVENT
DTSTART;TZID=America/New_York:20230418T110000
DTEND;TZID=America/New_York:20230418T120000
DTSTAMP:20260425T063250
CREATED:20230418T002543Z
LAST-MODIFIED:20230418T002543Z
UID:13914-1681815600-1681819200@jpdfoundation.org
SUMMARY:Phonemic Awareness: Workshops for Caregivers by LINC NYC
DESCRIPTION:Attention parents: add these events to your calendar! In this series\, caregivers will learn about phonemic awareness and how to make it a enjoyable daily practice to support their child’s readiness to read. Register here: http://rb.gy/zyuzib \n  \nAtención padres: ¡agreguen estos eventos a su calendario! En esta serie\, los cuidadores aprenderán sobre la conciencia fonémica y cómo convertirla en una práctica diaria agradable para apoyar la preparación de sus hijos para leer. http://rb.gy/zyuzib
URL:http://jpdfoundation.org/event/phonemic-awareness-workshops-for-caregivers-by-linc-nyc/
LOCATION:Zoom
CATEGORIES:Education,Events
ATTACH;FMTTYPE=image/jpeg:http://jpdfoundation.org/wp-content/uploads/2023/04/341697296_636218244996125_2061791149659691341_n.jpg
END:VEVENT
BEGIN:VEVENT
DTSTART;TZID=America/New_York:20230420T110000
DTEND;TZID=America/New_York:20230420T120000
DTSTAMP:20260425T063250
CREATED:20230418T002640Z
LAST-MODIFIED:20230418T002640Z
UID:13921-1681988400-1681992000@jpdfoundation.org
SUMMARY:Phonemic Awareness: Workshops for Caregivers by LINC NYC
DESCRIPTION:Attention parents: add these events to your calendar! In this series\, caregivers will learn about phonemic awareness and how to make it a enjoyable daily practice to support their child’s readiness to read. Register here: http://rb.gy/zyuzib \n  \nAtención padres: ¡agreguen estos eventos a su calendario! En esta serie\, los cuidadores aprenderán sobre la conciencia fonémica y cómo convertirla en una práctica diaria agradable para apoyar la preparación de sus hijos para leer. http://rb.gy/zyuzib
URL:http://jpdfoundation.org/event/phonemic-awareness-workshops-for-caregivers-by-linc-nyc-2/
LOCATION:Zoom
CATEGORIES:Education,Events
ATTACH;FMTTYPE=image/jpeg:http://jpdfoundation.org/wp-content/uploads/2023/04/341697296_636218244996125_2061791149659691341_n.jpg
END:VEVENT
BEGIN:VEVENT
DTSTART;TZID=America/New_York:20230421T110000
DTEND;TZID=America/New_York:20230421T160000
DTSTAMP:20260425T063250
CREATED:20230418T004514Z
LAST-MODIFIED:20230418T004644Z
UID:13927-1682074800-1682092800@jpdfoundation.org
SUMMARY:Denim Day Community Fair & Long Live Our Butterfly
DESCRIPTION:  \nPlease join us at this Denim Day\, a Community Fair event that will also be supporting advocacy efforts for Domestic Violence Awareness! \nElizabeth Ramona Rodriguez lost her life in a domestic dispute in her Washington Heights home in 2021. On Friday\, April 21\, 2023\, Long Live Our Butterfly will uplift Elizabeth’s 2nd anniversary while standing in solidarity with Denim Day. \nThe Community Fair will happen at 167 & Audubon (Ramona Elizabeth Rodriguez Way). \n— \nViernes\, Abril 21\, 2023 el Dia De Jeans honrará la memoria de Elizabeth Ramona Rodríguez\, quien perdió la vida en una disputa doméstica en su casa de Washington Heights en 2021. Acompáñenos en Nuestra Feria Comunitaria en la 167 y Audubon (Ramona Elizabeth Rodriguez Way). Nuestra comunidad no tolera la violencia doméstica.
URL:http://jpdfoundation.org/event/denim-day-community-fair-long-live-our-butterfly/
LOCATION:Ramona Elizabeth Rodriguez Way\, 167 & Audubon\, New York\, NY\, United States
CATEGORIES:Education,Events,Family Fun,Fashion
ATTACH;FMTTYPE=image/jpeg:http://jpdfoundation.org/wp-content/uploads/2023/04/image0.jpeg
END:VEVENT
BEGIN:VEVENT
DTSTART;TZID=America/New_York:20230425T110000
DTEND;TZID=America/New_York:20230425T120000
DTSTAMP:20260425T063250
CREATED:20230418T002713Z
LAST-MODIFIED:20230418T002713Z
UID:13923-1682420400-1682424000@jpdfoundation.org
SUMMARY:Phonemic Awareness: Workshops for Caregivers by LINC NYC
DESCRIPTION:Attention parents: add these events to your calendar! In this series\, caregivers will learn about phonemic awareness and how to make it a enjoyable daily practice to support their child’s readiness to read. Register here: http://rb.gy/zyuzib \n  \nAtención padres: ¡agreguen estos eventos a su calendario! En esta serie\, los cuidadores aprenderán sobre la conciencia fonémica y cómo convertirla en una práctica diaria agradable para apoyar la preparación de sus hijos para leer. http://rb.gy/zyuzib
URL:http://jpdfoundation.org/event/phonemic-awareness-workshops-for-caregivers-by-linc-nyc-3/
LOCATION:Zoom
CATEGORIES:Education,Events
ATTACH;FMTTYPE=image/jpeg:http://jpdfoundation.org/wp-content/uploads/2023/04/341697296_636218244996125_2061791149659691341_n.jpg
END:VEVENT
BEGIN:VEVENT
DTSTART;TZID=America/New_York:20230427T110000
DTEND;TZID=America/New_York:20230427T120000
DTSTAMP:20260425T063250
CREATED:20230418T002745Z
LAST-MODIFIED:20230418T002745Z
UID:13925-1682593200-1682596800@jpdfoundation.org
SUMMARY:Phonemic Awareness: Workshops for Caregivers by LINC NYC
DESCRIPTION:Attention parents: add these events to your calendar! In this series\, caregivers will learn about phonemic awareness and how to make it a enjoyable daily practice to support their child’s readiness to read. Register here: http://rb.gy/zyuzib \n  \nAtención padres: ¡agreguen estos eventos a su calendario! En esta serie\, los cuidadores aprenderán sobre la conciencia fonémica y cómo convertirla en una práctica diaria agradable para apoyar la preparación de sus hijos para leer. http://rb.gy/zyuzib
URL:http://jpdfoundation.org/event/phonemic-awareness-workshops-for-caregivers-by-linc-nyc-4/
LOCATION:Zoom
CATEGORIES:Education,Events
ATTACH;FMTTYPE=image/jpeg:http://jpdfoundation.org/wp-content/uploads/2023/04/341697296_636218244996125_2061791149659691341_n.jpg
END:VEVENT
BEGIN:VEVENT
DTSTART;TZID=America/New_York:20230602T180000
DTEND;TZID=America/New_York:20230602T210000
DTSTAMP:20260425T063250
CREATED:20230517T003259Z
LAST-MODIFIED:20230517T003259Z
UID:14053-1685728800-1685739600@jpdfoundation.org
SUMMARY:Joan Vidal Art Exhibition
DESCRIPTION:The art of Joan Vidal will be at the JPD Community Space starting on June 2nd (Friday). We will be waiting for you from 6-9pm for the opening reception on that day. And the sommelier Rafael Vargas will be responsible for the wine list!\n\n\n\nEl arte de Joan Vidal estará en el Espacio Comunitario JPD a partir del 2 de junio (viernes). Los estaremos esperando de 6:00 p. m. a 9:00 p. m. para la recepción de apertura ese día. ¡Y el sumiller Rafael Vargas será el encargado de la carta de vinos!
URL:http://jpdfoundation.org/event/joan-vidal-art-exhibition/
LOCATION:JPD Community Space\, GWB Marketplace (4211 Broadway\, Suite 23A - on the corner of 179th St. & Ft. Washington)\, New York\, NY\, 10033\, United States
CATEGORIES:Art
ATTACH;FMTTYPE=image/jpeg:http://jpdfoundation.org/wp-content/uploads/2023/05/61aa57aa-a5da-4d00-9ff8-1d25f5c95eb3.jpg
END:VEVENT
BEGIN:VEVENT
DTSTART;VALUE=DATE:20230603
DTEND;VALUE=DATE:20230604
DTSTAMP:20260425T063250
CREATED:20230508T000250Z
LAST-MODIFIED:20230508T000329Z
UID:14017-1685750400-1685836799@jpdfoundation.org
SUMMARY:24th Festival Del Boulevard
DESCRIPTION:
URL:http://jpdfoundation.org/event/24th-festival-del-boulevard/
LOCATION:Avenida St. Nicholas\, Manhattan\, NY\, United States
CATEGORIES:Events,Family Fun
ATTACH;FMTTYPE=image/jpeg:http://jpdfoundation.org/wp-content/uploads/2023/05/image0-1-1.jpeg
END:VEVENT
BEGIN:VEVENT
DTSTART;TZID=America/New_York:20230710T100000
DTEND;TZID=America/New_York:20230714T150000
DTSTAMP:20260425T063250
CREATED:20230617T014821Z
LAST-MODIFIED:20230617T014821Z
UID:14155-1688983200-1689346800@jpdfoundation.org
SUMMARY:FREE Summer Empowerment Program
DESCRIPTION:There’s only 25 spots available for this FREE SUMMER EMPOWERMENT PROGRAM dedicated to girls 8 to 12 years old! Come join One World Girl Summer Program for 5 days of enrichment activities in July at the JPD Community Space. The program starts on Monday\, the 10th\, and it ends on Friday\, the 14th. From 10am to 3pm daily.\n\n\n> Make sure to register by sending an email to laura@jpdfoundation.org\n\n\n\n\n\n—\n\n\n\n¡Solo hay 25 lugares disponibles para este PROGRAMA GRATUITO DE EMPODERAMIENTO DE VERANO dedicado a niñas de 8 a 12 años! Ven y únete al programa de verano One World Girl durante 5 días de actividades de enriquecimiento en julio. El programa comienza el lunes 10 y finaliza el viernes 14. De 10 am a 3 pm todos los días.\n\n\n> Asegúrese de registrarse enviando un correo electrónico a laura@jpdfoundation.org
URL:http://jpdfoundation.org/event/free-summer-empowerment-program/
LOCATION:NY
ATTACH;FMTTYPE=image/jpeg:http://jpdfoundation.org/wp-content/uploads/2023/06/30513d4f-0734-43c1-90af-e79dbe793b85.jpg
ORGANIZER;CN="JPD Foundation":MAILTO:info@jpdfoundation.org
END:VEVENT
BEGIN:VEVENT
DTSTART;TZID=America/New_York:20240513T080000
DTEND;TZID=America/New_York:20240513T170000
DTSTAMP:20260425T063250
CREATED:20240514T000608Z
LAST-MODIFIED:20240514T000608Z
UID:16205-1715587200-1715619600@jpdfoundation.org
SUMMARY:Festival Del Boulevard: 25 años!
DESCRIPTION:¡PREPARARSE! ¡Nuestro tradicional Festival Del Boulevard se llevará a cabo el 1 de junio! ¡Traiga a su familia para disfrutar de emocionantes representaciones artísticas\, deliciosa comida y una importante celebración de nuestra cultura! Presentación especial de Rubby Peréz.\n\nPara ser parte de la fiesta\, contáctenos al (917) 270-4987.\nhttp://jpdfoundation.org/wp-content/uploads/2024/05/435954201_1115690906352333_3932653812443645740_n.mp4\n\n\nOur traditional Festival Del Boulevard is happening on June 1st! Bring your family to enjoy exciting performances\, delicious food and a major celebration of our culture! Special presentation by Rubby Peréz\, Los Toros Band\, Aris Jackson\, R. Nova y más. \nTo be part of the party\, please contact us at (917) 270-4987.
URL:http://jpdfoundation.org/event/festival-del-boulevard-25-anos/
LOCATION:NY
CATEGORIES:Events,Family Fun
ATTACH;FMTTYPE=image/jpeg:http://jpdfoundation.org/wp-content/uploads/2024/04/PHOTO-2024-04-14-21-06-43-1.jpg
END:VEVENT
END:VCALENDAR