BEGIN:VCALENDAR
VERSION:2.0
PRODID:-//JPD Foundation - ECPv6.15.20//NONSGML v1.0//EN
CALSCALE:GREGORIAN
METHOD:PUBLISH
X-WR-CALNAME:JPD Foundation
X-ORIGINAL-URL:http://jpdfoundation.org
X-WR-CALDESC:Events for JPD Foundation
REFRESH-INTERVAL;VALUE=DURATION:PT1H
X-Robots-Tag:noindex
X-PUBLISHED-TTL:PT1H
BEGIN:VTIMEZONE
TZID:America/New_York
BEGIN:DAYLIGHT
TZOFFSETFROM:-0500
TZOFFSETTO:-0400
TZNAME:EDT
DTSTART:20180311T070000
END:DAYLIGHT
BEGIN:STANDARD
TZOFFSETFROM:-0400
TZOFFSETTO:-0500
TZNAME:EST
DTSTART:20181104T060000
END:STANDARD
BEGIN:DAYLIGHT
TZOFFSETFROM:-0500
TZOFFSETTO:-0400
TZNAME:EDT
DTSTART:20190310T070000
END:DAYLIGHT
BEGIN:STANDARD
TZOFFSETFROM:-0400
TZOFFSETTO:-0500
TZNAME:EST
DTSTART:20191103T060000
END:STANDARD
BEGIN:DAYLIGHT
TZOFFSETFROM:-0500
TZOFFSETTO:-0400
TZNAME:EDT
DTSTART:20200308T070000
END:DAYLIGHT
BEGIN:STANDARD
TZOFFSETFROM:-0400
TZOFFSETTO:-0500
TZNAME:EST
DTSTART:20201101T060000
END:STANDARD
END:VTIMEZONE
BEGIN:VEVENT
DTSTART;TZID=America/New_York:20191009T160000
DTEND;TZID=America/New_York:20191009T200000
DTSTAMP:20260424T050420
CREATED:20191002T211653Z
LAST-MODIFIED:20191002T211653Z
UID:3742-1570636800-1570651200@jpdfoundation.org
SUMMARY:GWBBS Career Fair / Feria de Empleo
DESCRIPTION:
URL:http://jpdfoundation.org/event/gwbbs-career-fair-feria-de-empleo/
LOCATION:JPD Community Space\, GWB Marketplace (4211 Broadway\, Suite 23A - on the corner of 179th St. & Ft. Washington)\, New York\, NY\, 10033\, United States
CATEGORIES:Education,Jobs,Meeting
ATTACH;FMTTYPE=application/pdf:http://jpdfoundation.org/wp-content/uploads/2019/10/GWBBS-October-2019-Career-Fair-1.pdf
ORGANIZER;CN="JPD Foundation":MAILTO:info@jpdfoundation.org
END:VEVENT
END:VCALENDAR